BEGIN:VCALENDAR
VERSION:2.0
PRODID:-//Plone.org//NONSGML plone.app.event//EN
X-WR-TIMEZONE:America/Maceio
BEGIN:VEVENT
SUMMARY:Banca de Defesa de Dissertação - Pedro Becker Calheiros Correia 
 de Melo
DTSTART;TZID=America/Maceio:20251209T103000
DTEND;TZID=America/Maceio:20251209T120000
DTSTAMP:20260420T222511Z
UID:2dc40d90bfea4824815cdaf745e683e0@fda.ufal.br
CREATED:20251209T140255Z
DESCRIPTION:Banca de Defesa de Dissertação para obtenção do título de
  Mestre de Pedro Becker Calheiros Correia de Melo\, com o título: "O DIRE
 ITO FUNDAMENTAL AO MEIO AMBIENTE EQUILIBRADO COMO LIMITADOR DA TRIBUTAÇÃ
 O INCIDENTE SOBRE CRÉDITOS DE DESCARBONIZAÇÃO (CBIOS)"
LAST-MODIFIED:20251209T140300Z
LOCATION:Faculdade de Direito de Alagoas (sala 1 do mestrado)
URL:https://fda.ufal.br/pos-graduacao/mestrado-em-direito/calendario-de-de
 fesas/banca-de-defesa-de-dissertacao-pedro-becker-calheiros-correia-de-mel
 o
END:VEVENT
BEGIN:VTIMEZONE
TZID:America/Maceio
X-LIC-LOCATION:America/Maceio
BEGIN:STANDARD
DTSTART:20020216T230000
TZNAME:-03
TZOFFSETFROM:-0200
TZOFFSETTO:-0300
END:STANDARD
END:VTIMEZONE
END:VCALENDAR
