BEGIN:VCALENDAR
VERSION:2.0
PRODID:-//Plone.org//NONSGML plone.app.event//EN
X-WR-TIMEZONE:America/Maceio
BEGIN:VEVENT
SUMMARY:Banca de Defesa de Dissertação - Nayanne Lays de Oliveira Lima
DTSTART;TZID=America/Maceio:20251103T100000
DTEND;TZID=America/Maceio:20251103T110000
DTSTAMP:20260420T162711Z
UID:c61f416697b0431eae1631c3007544c4@fda.ufal.br
CREATED:20251031T142334Z
DESCRIPTION:Banca de Defesa de Dissertação para obtenção do título de
  Mestre de Nayanne Lays de Oliveira Lima\, com o título: “A EXCESSIVA J
 UDICIALIZAÇÃO DOS CONCURSOS PÚBLICOS NO BRASIL: ANÁLISE DAS PRINCIPAIS
  CAUSAS E POSSÍVEIS CAMINHOS PARA A REDUÇÃO DA INSEGURANÇA JURÍDICA."
LAST-MODIFIED:20251031T142340Z
LOCATION:Miniauditório da Faculdade de Direito de Alagoas/UFAL
URL:https://fda.ufal.br/pos-graduacao/mestrado-em-direito/calendario-de-de
 fesas/banca-de-defesa-de-dissertacao-nayanne-lays-de-oliveira-lima
END:VEVENT
BEGIN:VTIMEZONE
TZID:America/Maceio
X-LIC-LOCATION:America/Maceio
BEGIN:STANDARD
DTSTART:20020216T230000
TZNAME:-03
TZOFFSETFROM:-0200
TZOFFSETTO:-0300
END:STANDARD
END:VTIMEZONE
END:VCALENDAR
