BEGIN:VCALENDAR
VERSION:2.0
PRODID:-//Plone.org//NONSGML plone.app.event//EN
X-WR-TIMEZONE:America/Maceio
BEGIN:VEVENT
SUMMARY:Banca de Defesa de Dissertação - Mestrando Pedro Brabo dos Santo
 s
DTSTART;TZID=America/Maceio:20250926T100000
DTEND;TZID=America/Maceio:20250926T120000
DTSTAMP:20260420T203204Z
UID:18089ca7e9274bf5a7fb617fa5635aeb@fda.ufal.br
CONTACT:https://calendar.app.google/MUAFrkXGbw5MtYcp6
CREATED:20250925T145106Z
DESCRIPTION:Banca de Defesa de Dissertação para obtenção do título de
  Mestre de Pedro Brabo dos Santos\, com o título: "A IMPROBIDADE ADMINIST
 RATIVA COMO SUBSISTEMA AUTÔNOMO: um caminho para a coerência no combate 
 à corrupção no Brasil com o advento da Lei n°14.230/21"
LAST-MODIFIED:20250925T151016Z
LOCATION:Faculdade de Direito de Alagoas e pelo link https://calendar.app.
 google/MUAFrkXGbw5MtYcp6
URL:https://fda.ufal.br/pos-graduacao/mestrado-em-direito/calendario-de-de
 fesas/banca-de-defesa-de-dissertacao-mestrando-pedro-brabo-dos-santos
END:VEVENT
BEGIN:VTIMEZONE
TZID:America/Maceio
X-LIC-LOCATION:America/Maceio
BEGIN:STANDARD
DTSTART:20020216T230000
TZNAME:-03
TZOFFSETFROM:-0200
TZOFFSETTO:-0300
END:STANDARD
END:VTIMEZONE
END:VCALENDAR
