BEGIN:VCALENDAR
VERSION:2.0
PRODID:-//Plone.org//NONSGML plone.app.event//EN
X-WR-TIMEZONE:America/Maceio
BEGIN:VEVENT
SUMMARY:Banca de Defesa de Dissertação - Mestrando José Cledson Paciên
 cia Teles
DTSTART;TZID=America/Maceio:20250815T100000
DTEND;TZID=America/Maceio:20250815T120000
DTSTAMP:20260420T175121Z
UID:71508623f7624abfbcede52f62e321ec@fda.ufal.br
ATTENDEE;CN="Profs. Drs. Marcos Augusto de Albuquerque Ehrhardt Júnior (P
 residente/PPGD/UFAL); ";ROLE=REQ-PARTICIPANT:Profs. Drs. Marcos Augusto de
  Albuquerque Ehrhardt Júnior (Presidente/PPGD/UFAL); 
ATTENDEE;CN="                    George Sarmento Lins Júnior (Avaliador I
 nterno/PPGD/UFAL);";ROLE=REQ-PARTICIPANT:                    George Sarmen
 to Lins Júnior (Avaliador Interno/PPGD/UFAL);
ATTENDEE;CN="                    Juliana de Oliveira Jota Dantas (Avaliado
 ra Interna/PPGD/UFAL);";ROLE=REQ-PARTICIPANT:                    Juliana d
 e Oliveira Jota Dantas (Avaliadora Interna/PPGD/UFAL);
ATTENDEE;CN="                    Gustavo Henrique Baptista Andrade (Avalia
 dor Externo/Faculdade Damas)";ROLE=REQ-PARTICIPANT:                    Gus
 tavo Henrique Baptista Andrade (Avaliador Externo/Faculdade Damas)
CREATED:20250806T114054Z
DESCRIPTION:Banca de Defesa de Dissertação para obtenção do título de
  Mestre de José Cledson Paciência Teles\, com o título: "SOCIEDADE DA I
 NFORMAÇÃO\, LIBERDADE DE EXPRESSÃO E OS DESAFIOS DA REGULAÇÃO JURÍDI
 CA DO ESPAÇO DIGITAL FRENTE ÀS FAKE NEWS"
LAST-MODIFIED:20250813T145407Z
LOCATION:Plataforma Virtual Google meet pelo link https://meet.google.com/
 uzu-kouo-hnd?authuser=0&hs=122
URL:https://fda.ufal.br/pos-graduacao/mestrado-em-direito/calendario-de-de
 fesas/banca-de-defesa-de-dissertacao-mestrando-jose-cledson-paciencia-tele
 s
END:VEVENT
BEGIN:VTIMEZONE
TZID:America/Maceio
X-LIC-LOCATION:America/Maceio
BEGIN:STANDARD
DTSTART:20020216T230000
TZNAME:-03
TZOFFSETFROM:-0200
TZOFFSETTO:-0300
END:STANDARD
END:VTIMEZONE
END:VCALENDAR
