BEGIN:VCALENDAR
VERSION:2.0
PRODID:-//Plone.org//NONSGML plone.app.event//EN
X-WR-TIMEZONE:America/Maceio
BEGIN:VEVENT
SUMMARY:Banca de Defesa de Dissertação - Mestrando João Pedro Bastos de
  Oliveira
DTSTART;TZID=America/Maceio:20251017T140000
DTEND;TZID=America/Maceio:20251017T170000
DTSTAMP:20260420T222511Z
UID:e747ad1352b74076b9367ba6c4cae650@fda.ufal.br
CREATED:20251013T140505Z
DESCRIPTION:Banca de Defesa de Dissertação para obtenção do título de
  Mestre de João Pedro Bastos de Oliveira\, com o título: “SIM\, EU LI 
 E ACEITO OS TERMOS E CONDIÇÕES”: A problemática do consentimento na s
 ociedade hiperconectada e o esvaziamento axiológico da autonomia da vonta
 de como fundamento do negócio jurídico.
LAST-MODIFIED:20251031T142012Z
LOCATION:Faculdade de Direito de Alagoas
URL:https://fda.ufal.br/pos-graduacao/mestrado-em-direito/calendario-de-de
 fesas/banca-de-defesa-de-dissertacao-mestrando-joao-pedro-bastos-de-olivei
 ra
END:VEVENT
BEGIN:VTIMEZONE
TZID:America/Maceio
X-LIC-LOCATION:America/Maceio
BEGIN:STANDARD
DTSTART:20020216T230000
TZNAME:-03
TZOFFSETFROM:-0200
TZOFFSETTO:-0300
END:STANDARD
END:VTIMEZONE
END:VCALENDAR
