BEGIN:VCALENDAR
VERSION:2.0
PRODID:-//Plone.org//NONSGML plone.app.event//EN
X-WR-TIMEZONE:America/Maceio
BEGIN:VEVENT
SUMMARY:Banca de Defesa de Dissertação - Mestrando Fernando Antônio Rod
 rigues de Andrade
DTSTART;TZID=America/Maceio:20251106T140000
DTEND;TZID=America/Maceio:20251106T160000
DTSTAMP:20260420T180318Z
UID:f46492949d60471e922b98d51d643784@fda.ufal.br
CREATED:20251103T110823Z
DESCRIPTION:Banca de Defesa de Dissertação para obtenção do título de
  Mestre de Fernando Antônio Rodrigues Andrade\, com o título: “NORMA T
 RIBUTÁRIA INDUTORA E O EQUILÍBRIO NO DESENVOLVIMENTO ECONÔMICO DIANTE D
 OS AVANÇOS DOS\nROBÔS E DA INTELIGÊNCIA ARTIFICIAL FRENTE AO TRABALHO H
 UMANO: ANÁLISE SEMÂNTICO-PRAGMÁTICA DO ARTIGO 195\, §9º DA CONSTITUI
 ÇÃO FEDERAL DE 1988”
LAST-MODIFIED:20251103T110932Z
URL:https://fda.ufal.br/pos-graduacao/mestrado-em-direito/calendario-de-de
 fesas/banca-de-defesa-de-dissertacao-mestrando-fernando-antonio-rodrigues-
 de-andrade
END:VEVENT
BEGIN:VTIMEZONE
TZID:America/Maceio
X-LIC-LOCATION:America/Maceio
BEGIN:STANDARD
DTSTART:20020216T230000
TZNAME:-03
TZOFFSETFROM:-0200
TZOFFSETTO:-0300
END:STANDARD
END:VTIMEZONE
END:VCALENDAR
