BEGIN:VCALENDAR
VERSION:2.0
PRODID:-//Plone.org//NONSGML plone.app.event//EN
X-WR-TIMEZONE:America/Maceio
BEGIN:VEVENT
SUMMARY:Banca de Defesa de Dissertação - Mestrando Eraldo Silveira Filho
DTSTART;TZID=America/Maceio:20251006T193000
DTEND;TZID=America/Maceio:20251006T213000
DTSTAMP:20260420T205143Z
UID:048a9b4c3f6945708007a98d59efabbd@fda.ufal.br
CREATED:20251003T104454Z
DESCRIPTION:Banca de Defesa de Dissertação para obtenção do título de
  Mestre de Eraldo Silveira Filho\, com o título: O DEVIDO PROCESSO LEGAL 
 DA PROVA PERICIAL: Semântica\, sintática e pragmática.
LAST-MODIFIED:20251003T104558Z
LOCATION:Faculdade de Direito de Alagoas
URL:https://fda.ufal.br/pos-graduacao/mestrado-em-direito/calendario-de-de
 fesas/banca-de-defesa-de-dissertacao-mestrando-eraldo-silveira-filho
END:VEVENT
BEGIN:VTIMEZONE
TZID:America/Maceio
X-LIC-LOCATION:America/Maceio
BEGIN:STANDARD
DTSTART:20020216T230000
TZNAME:-03
TZOFFSETFROM:-0200
TZOFFSETTO:-0300
END:STANDARD
END:VTIMEZONE
END:VCALENDAR
