BEGIN:VCALENDAR
VERSION:2.0
PRODID:-//Plone.org//NONSGML plone.app.event//EN
X-WR-TIMEZONE:America/Maceio
BEGIN:VEVENT
SUMMARY:Banca de Defesa de Dissertação - Mestrando Antônio Luiz Milhaze
 s Neto
DTSTART;TZID=America/Maceio:20250821T090000
DTEND;TZID=America/Maceio:20250821T110000
DTSTAMP:20260420T143427Z
UID:efc77f4d6c1d4c4ab68a9f34e6fee9bb@fda.ufal.br
ATTENDEE;CN="Prof.ª Dr.ª Juliana de Oliveira Jota Dantas  (Presidente/PP
 GD/UFAL); Profs. Drs. Frederico Wildson da Silva Dantas e Marcos Augusto d
 e Albuquerque Ehrhardt Júnior (avaliadores internos/UFAL) e como convidad
 o externo o Prof. Dr. Fernando Sérgio Tenório de Amorim (CESMAC)";ROLE=R
 EQ-PARTICIPANT:Prof.ª Dr.ª Juliana de Oliveira Jota Dantas  (Presidente/
 PPGD/UFAL); Profs. Drs. Frederico Wildson da Silva Dantas e Marcos Augusto
  de Albuquerque Ehrhardt Júnior (avaliadores internos/UFAL) e como convid
 ado externo o Prof. Dr. Fernando Sérgio Tenório de Amorim (CESMAC)
CREATED:20250815T130129Z
DESCRIPTION:Banca de Defesa de Dissertação para obtenção do título de
  Mestre de Antônio Luiz Milhazes Neto\, com o título: DIREITOS\nAUTORAIS
  E INTELIGÊNCIA ARTIFICIAL GENERATIVA DE IMAGENS: A TUTELA DAS CRIAÇÕES
  DIGITAIS DIANTE DO ORDENAMENTO JURÍDICO\nCONSTITUCIONAL BRASILEIRO
LAST-MODIFIED:20250815T130134Z
LOCATION:Sala de aula da Faculdade de Direito de Alagoas - FDA/UFAL
URL:https://fda.ufal.br/pos-graduacao/mestrado-em-direito/calendario-de-de
 fesas/banca-de-defesa-de-dissertacao-mestrando-antonio-luiz-milhazes-neto
END:VEVENT
BEGIN:VTIMEZONE
TZID:America/Maceio
X-LIC-LOCATION:America/Maceio
BEGIN:STANDARD
DTSTART:20020216T230000
TZNAME:-03
TZOFFSETFROM:-0200
TZOFFSETTO:-0300
END:STANDARD
END:VTIMEZONE
END:VCALENDAR
