BEGIN:VCALENDAR
VERSION:2.0
PRODID:-//Plone.org//NONSGML plone.app.event//EN
X-WR-TIMEZONE:America/Maceio
BEGIN:VEVENT
SUMMARY:Banca de Defesa de Dissertação - Mestranda Maria Cristina Valen
 ça Lima
DTSTART;TZID=America/Maceio:20250904T150000
DTEND;TZID=America/Maceio:20250904T170000
DTSTAMP:20260420T132805Z
UID:f428418a75634eb8a35f4357816eae98@fda.ufal.br
CONTACT:https://meet.google.com/ceq-dsye-fgk
CREATED:20250910T103531Z
DESCRIPTION:Banca de Defesa de Dissertação para obtenção do título de
  Mestre de Maria Cristina Valença Lima\, com o título: “O BENEFÍCIO D
 E PRESTAÇÃO CONTINUADA: Análise crítica do critério econômico e a at
 uação judicial na garantia de Direitos Fundamentais"
LAST-MODIFIED:20250910T103647Z
LOCATION:Google Meet: https://meet.google.com/ceq-dsye-fgk
URL:https://fda.ufal.br/pos-graduacao/mestrado-em-direito/calendario-de-de
 fesas/banca-de-defesa-de-dissertacao-mestranda-maria-cristina-valenca-lima
END:VEVENT
BEGIN:VTIMEZONE
TZID:America/Maceio
X-LIC-LOCATION:America/Maceio
BEGIN:STANDARD
DTSTART:20020216T230000
TZNAME:-03
TZOFFSETFROM:-0200
TZOFFSETTO:-0300
END:STANDARD
END:VTIMEZONE
END:VCALENDAR
