BEGIN:VCALENDAR
VERSION:2.0
PRODID:-//Plone.org//NONSGML plone.app.event//EN
X-WR-TIMEZONE:America/Maceio
BEGIN:VEVENT
SUMMARY:Banca de Defesa de Dissertação - Mestranda Fannyelaisa Alves de 
 Oliveira Costa
DTSTART;TZID=America/Maceio:20251117T090000
DTEND;TZID=America/Maceio:20251117T100000
DTSTAMP:20260420T215012Z
UID:fd70e2dfe72d4e00bd9fef65678af5b9@fda.ufal.br
CREATED:20251114T121024Z
DESCRIPTION:Banca de Defesa de Dissertação para obtenção do título de
  Mestre de Fannyelaisa Alves de Oliveira Costa\, com o título: “ATUAÇ
 ÃO DO STF EM TEMPOS DE EROSÃO CONSTITUCIONAL: judicialização da polít
 ica e enfraquecimento democrático no Brasil”
LAST-MODIFIED:20251114T121028Z
URL:https://fda.ufal.br/pos-graduacao/mestrado-em-direito/calendario-de-de
 fesas/banca-de-defesa-de-dissertacao-mestranda-fannyelaisa-alves-de-olivei
 ra-costa
END:VEVENT
BEGIN:VTIMEZONE
TZID:America/Maceio
X-LIC-LOCATION:America/Maceio
BEGIN:STANDARD
DTSTART:20020216T230000
TZNAME:-03
TZOFFSETFROM:-0200
TZOFFSETTO:-0300
END:STANDARD
END:VTIMEZONE
END:VCALENDAR
