BEGIN:VCALENDAR
VERSION:2.0
PRODID:-//Plone.org//NONSGML plone.app.event//EN
X-WR-TIMEZONE:America/Maceio
BEGIN:VEVENT
SUMMARY:Banca de Defesa de Dissertação - Mestranda Deborah Leão Dias
DTSTART;TZID=America/Maceio:20251118T100000
DTEND;TZID=America/Maceio:20251118T110000
DTSTAMP:20260420T182309Z
UID:238f685966444c6396ef824c6eeb85bd@fda.ufal.br
CREATED:20251117T113233Z
DESCRIPTION:Banca de Defesa de Dissertação para obtenção do título de
  Mestre de Deborah Leão Dias\, com o título: GÊNERO\, MERCADO DE ENTRET
 ENIMENTO E O DISCRÍMEN ENTRE OS PREÇOS: análise da prática comercial
  ladies night.
LAST-MODIFIED:20251117T125223Z
LOCATION:Miniauditório da FDA
URL:https://fda.ufal.br/pos-graduacao/mestrado-em-direito/calendario-de-de
 fesas/banca-de-defesa-de-dissertacao-mestranda-deborah-leao-dias
END:VEVENT
BEGIN:VTIMEZONE
TZID:America/Maceio
X-LIC-LOCATION:America/Maceio
BEGIN:STANDARD
DTSTART:20020216T230000
TZNAME:-03
TZOFFSETFROM:-0200
TZOFFSETTO:-0300
END:STANDARD
END:VTIMEZONE
END:VCALENDAR
