BEGIN:VCALENDAR
VERSION:2.0
PRODID:-//Plone.org//NONSGML plone.app.event//EN
X-WR-TIMEZONE:America/Maceio
BEGIN:VEVENT
SUMMARY:Banca de Defesa de Dissertação - Marcus Vinícius da Silva Ferre
 ira Melo
DTSTART;TZID=America/Maceio:20251126T170000
DTEND;TZID=America/Maceio:20251126T180000
DTSTAMP:20260420T172131Z
UID:6ac6b6a2b038491d9bfed89ccbf6c2a7@fda.ufal.br
CONTACT:http://meet.google.com/rhs-nqxq-cjs
CREATED:20251125T123213Z
DESCRIPTION:Banca de Defesa de Dissertação para obtenção do título de
  Mestre de Marcus Vinícius da Silva Ferreira Melo\, com o título: "COMO 
 A POLÍCIA MILITAR DE ALAGOAS ENFRENTAVA A CRIMINALIDADE EM MACEIÓ DURANT
 E A REDEMOCRATIZAÇÃO? Uma etnografia documental de processos criminais (
 1997-2000)"
LAST-MODIFIED:20251125T123241Z
LOCATION:http://meet.google.com/rhs-nqxq-cjs
URL:https://fda.ufal.br/pos-graduacao/mestrado-em-direito/calendario-de-de
 fesas/banca-de-defesa-de-dissertacao-marcus-vinicius-da-silva-ferreira-mel
 o
END:VEVENT
BEGIN:VTIMEZONE
TZID:America/Maceio
X-LIC-LOCATION:America/Maceio
BEGIN:STANDARD
DTSTART:20020216T230000
TZNAME:-03
TZOFFSETFROM:-0200
TZOFFSETTO:-0300
END:STANDARD
END:VTIMEZONE
END:VCALENDAR
