BEGIN:VCALENDAR
VERSION:2.0
PRODID:-//Plone.org//NONSGML plone.app.event//EN
X-WR-TIMEZONE:America/Maceio
BEGIN:VEVENT
SUMMARY:Banca de Defesa de Dissertação - Manuelly Karollyny Moreira dos 
 Santos
DTSTART;TZID=America/Maceio:20251211T090000
DTEND;TZID=America/Maceio:20251211T130000
DTSTAMP:20260420T220736Z
UID:13e5707002cc42c793b5a6749d4d08d6@fda.ufal.br
CREATED:20251211T151622Z
DESCRIPTION:Banca de Defesa de Dissertação para obtenção do título de
  Mestre de Manuelly Karollyny Moreira dos Santos\, com o título: "A abstr
 ativização do controle difuso – uma análise da evolução do sistema 
 de controle incidental de constitucionalidade no Brasil"
LAST-MODIFIED:20251211T151627Z
LOCATION:Plataforma virtual Google Meet\, através do link  https://meet.
 google.com/mne-hhxi-zbc
URL:https://fda.ufal.br/pos-graduacao/mestrado-em-direito/calendario-de-de
 fesas/banca-de-defesa-de-dissertacao-manuelly-karollyny-moreira-dos-santos
END:VEVENT
BEGIN:VTIMEZONE
TZID:America/Maceio
X-LIC-LOCATION:America/Maceio
BEGIN:STANDARD
DTSTART:20020216T230000
TZNAME:-03
TZOFFSETFROM:-0200
TZOFFSETTO:-0300
END:STANDARD
END:VTIMEZONE
END:VCALENDAR
