BEGIN:VCALENDAR
VERSION:2.0
PRODID:-//Plone.org//NONSGML plone.app.event//EN
X-WR-TIMEZONE:America/Maceio
BEGIN:VEVENT
SUMMARY:Banca de Defesa de Dissertação - Lucas Viana Coutinho
DTSTART;TZID=America/Maceio:20251125T090000
DTEND;TZID=America/Maceio:20251125T110000
DTSTAMP:20260420T160846Z
UID:b1531d0548df4a5fb353f786a8188bd0@fda.ufal.br
CREATED:20251124T133223Z
DESCRIPTION:Banca de Defesa de Dissertação para obtenção do título de
  Mestre de Lucas Viana Coutinho\, com o título: “ANALISANDO O TRABALHO 
 INTERMITENTE PÓS REFORMA TRABALHISTA”.
LAST-MODIFIED:20251124T133228Z
URL:https://fda.ufal.br/pos-graduacao/mestrado-em-direito/calendario-de-de
 fesas/banca-de-defesa-de-dissertacao-lucas-viana-coutinho
END:VEVENT
BEGIN:VTIMEZONE
TZID:America/Maceio
X-LIC-LOCATION:America/Maceio
BEGIN:STANDARD
DTSTART:20020216T230000
TZNAME:-03
TZOFFSETFROM:-0200
TZOFFSETTO:-0300
END:STANDARD
END:VTIMEZONE
END:VCALENDAR
