BEGIN:VCALENDAR
VERSION:2.0
PRODID:-//Plone.org//NONSGML plone.app.event//EN
X-WR-TIMEZONE:America/Maceio
BEGIN:VEVENT
SUMMARY:Banca de Defesa de Dissertação - Lígia Maria Eugênio Cavalcant
 e
DTSTART;TZID=America/Maceio:20251124T103000
DTEND;TZID=America/Maceio:20251124T120000
DTSTAMP:20260420T123655Z
UID:734821fea5ba43f7b0d4ba2d64c109da@fda.ufal.br
CREATED:20251119T144944Z
DESCRIPTION:Banca de Defesa de Dissertação para obtenção do título de
  Mestre de Lígia Maria Eugênio Cavalcante\, com o título: “O DIREITO 
 À LIBERDADE DE EXPRESSÃO NA ERA DIGITAL: Os impactos das redes sociais n
 o ambiente democrático brasileiro”
LAST-MODIFIED:20251119T144949Z
LOCATION:Miniauditório da Faculdade de Direito de Alagoas/UFAL
URL:https://fda.ufal.br/pos-graduacao/mestrado-em-direito/calendario-de-de
 fesas/banca-de-defesa-de-dissertacao-ligia-maria-eugenio-cavalcante
END:VEVENT
BEGIN:VTIMEZONE
TZID:America/Maceio
X-LIC-LOCATION:America/Maceio
BEGIN:STANDARD
DTSTART:20020216T230000
TZNAME:-03
TZOFFSETFROM:-0200
TZOFFSETTO:-0300
END:STANDARD
END:VTIMEZONE
END:VCALENDAR
