BEGIN:VCALENDAR
VERSION:2.0
PRODID:-//Plone.org//NONSGML plone.app.event//EN
X-WR-TIMEZONE:America/Maceio
BEGIN:VEVENT
SUMMARY:Banca de Defesa de Dissertação - João Victor Sarmento Costa
DTSTART;TZID=America/Maceio:20251217T140000
DTEND;TZID=America/Maceio:20251217T150000
DTSTAMP:20260420T182309Z
UID:47de920bf52c4f52b1c779b4f60a18b7@fda.ufal.br
CREATED:20251217T133612Z
DESCRIPTION:Banca de Defesa de Dissertação para obtenção do título de
  Mestre de João Victor Sarmento Costa\, com o título: "A INTERVENÇÃO D
 O ESTADO FISCAL NAS TRANSAÇÕES\nECONÔMICAS DE ATIVOS DIGITAIS: PERSPECT
 IVAS TRIBUTÁRIAS NO CONTEXTO DO ITCMD"
LAST-MODIFIED:20251217T133616Z
LOCATION:Plataforma Vitural Google Meet - link: https://meet.google.com/kh
 n-uwtc-hfc
URL:https://fda.ufal.br/pos-graduacao/mestrado-em-direito/calendario-de-de
 fesas/banca-de-defesa-de-dissertacao-joao-victor-sarmento-costa
END:VEVENT
BEGIN:VTIMEZONE
TZID:America/Maceio
X-LIC-LOCATION:America/Maceio
BEGIN:STANDARD
DTSTART:20020216T230000
TZNAME:-03
TZOFFSETFROM:-0200
TZOFFSETTO:-0300
END:STANDARD
END:VTIMEZONE
END:VCALENDAR
