BEGIN:VCALENDAR
VERSION:2.0
PRODID:-//Plone.org//NONSGML plone.app.event//EN
X-WR-TIMEZONE:America/Maceio
BEGIN:VEVENT
SUMMARY:Banca de Defesa de Dissertação - Andrea Azevedo Santa Rosa
DTSTART;TZID=America/Maceio:20251104T090000
DTEND;TZID=America/Maceio:20251104T100000
DTSTAMP:20260421T024234Z
UID:0fdbb5e9e95c4fb79a28d465f7f36661@fda.ufal.br
CREATED:20251103T104330Z
DESCRIPTION:Banca de Defesa de Dissertação para obtenção do título de
  Mestre de Andrea Azevedo Santa Rosa\, com o título: “ENTRE O FANTASMA 
 DA “MULHER HONESTA” E A PERSPECTIVA DE GÊNERO: A INFLUÊNCIA DOS ESTE
 REÓTIPOS NAS SENTENÇAS SOBRE CRIMES CONTRA A LIBERDADE SEXUAL DE MULHERE
 S EM ALAGOAS (2018-2023)”
LAST-MODIFIED:20251103T104335Z
URL:https://fda.ufal.br/pos-graduacao/mestrado-em-direito/calendario-de-de
 fesas/banca-de-defesa-de-dissertacao-andrea-azevedo-santa-rosa
END:VEVENT
BEGIN:VTIMEZONE
TZID:America/Maceio
X-LIC-LOCATION:America/Maceio
BEGIN:STANDARD
DTSTART:20020216T230000
TZNAME:-03
TZOFFSETFROM:-0200
TZOFFSETTO:-0300
END:STANDARD
END:VTIMEZONE
END:VCALENDAR
